BEGIN:VCALENDAR
VERSION:2.0
PRODID:-//Clear Spring Health Care - ECPv6.15.18//NONSGML v1.0//EN
CALSCALE:GREGORIAN
METHOD:PUBLISH
X-WR-CALNAME:Clear Spring Health Care
X-ORIGINAL-URL:https://clearspringhealthcare.com
X-WR-CALDESC:Events for Clear Spring Health Care
REFRESH-INTERVAL;VALUE=DURATION:PT1H
X-Robots-Tag:noindex
X-PUBLISHED-TTL:PT1H
BEGIN:VTIMEZONE
TZID:America/New_York
BEGIN:DAYLIGHT
TZOFFSETFROM:-0500
TZOFFSETTO:-0400
TZNAME:EDT
DTSTART:20230312T070000
END:DAYLIGHT
BEGIN:STANDARD
TZOFFSETFROM:-0400
TZOFFSETTO:-0500
TZNAME:EST
DTSTART:20231105T060000
END:STANDARD
BEGIN:DAYLIGHT
TZOFFSETFROM:-0500
TZOFFSETTO:-0400
TZNAME:EDT
DTSTART:20240310T070000
END:DAYLIGHT
BEGIN:STANDARD
TZOFFSETFROM:-0400
TZOFFSETTO:-0500
TZNAME:EST
DTSTART:20241103T060000
END:STANDARD
BEGIN:DAYLIGHT
TZOFFSETFROM:-0500
TZOFFSETTO:-0400
TZNAME:EDT
DTSTART:20250309T070000
END:DAYLIGHT
BEGIN:STANDARD
TZOFFSETFROM:-0400
TZOFFSETTO:-0500
TZNAME:EST
DTSTART:20251102T060000
END:STANDARD
END:VTIMEZONE
BEGIN:VEVENT
DTSTART;TZID=America/New_York:20240509T130000
DTEND;TZID=America/New_York:20240509T140000
DTSTAMP:20260423T021905
CREATED:20240417T181817Z
LAST-MODIFIED:20240417T181817Z
UID:4590-1715259600-1715263200@clearspringhealthcare.com
SUMMARY:South Carolina New Agent Training - Virtual Training
DESCRIPTION:Join us to learn more about extra benefits offered by our SC MAPD plans.
URL:https://clearspringhealthcare.com/event/south-carolina-new-agent-training-virtual-training-2/
CATEGORIES:Roundtable,Virtual Training
END:VEVENT
END:VCALENDAR