BEGIN:VCALENDAR
VERSION:2.0
PRODID:-//Clear Spring Health Care - ECPv6.15.18//NONSGML v1.0//EN
CALSCALE:GREGORIAN
METHOD:PUBLISH
X-ORIGINAL-URL:https://clearspringhealthcare.com
X-WR-CALDESC:Events for Clear Spring Health Care
REFRESH-INTERVAL;VALUE=DURATION:PT1H
X-Robots-Tag:noindex
X-PUBLISHED-TTL:PT1H
BEGIN:VTIMEZONE
TZID:America/Phoenix
BEGIN:STANDARD
TZOFFSETFROM:-0700
TZOFFSETTO:-0700
TZNAME:MST
DTSTART:20240101T000000
END:STANDARD
END:VTIMEZONE
BEGIN:VEVENT
DTSTART;TZID=America/Phoenix:20250121T090000
DTEND;TZID=America/Phoenix:20250121T100000
DTSTAMP:20260422T184915
CREATED:20250101T165540Z
LAST-MODIFIED:20250101T165540Z
UID:12957-1737450000-1737453600@clearspringhealthcare.com
SUMMARY:Colorado 2025 Virtual Training: 2025 OEP\, SEPs\, and CSH Benefits
DESCRIPTION:
URL:https://clearspringhealthcare.com/event/colorado-2025-virtual-training-2025-oep-seps-and-csh-benefits-3/
END:VEVENT
END:VCALENDAR