BEGIN:VCALENDAR
VERSION:2.0
PRODID:-//Clear Spring Health Care - ECPv6.15.18//NONSGML v1.0//EN
CALSCALE:GREGORIAN
METHOD:PUBLISH
X-ORIGINAL-URL:https://clearspringhealthcare.com
X-WR-CALDESC:Events for Clear Spring Health Care
REFRESH-INTERVAL;VALUE=DURATION:PT1H
X-Robots-Tag:noindex
X-PUBLISHED-TTL:PT1H
BEGIN:VTIMEZONE
TZID:America/Phoenix
BEGIN:STANDARD
TZOFFSETFROM:-0700
TZOFFSETTO:-0700
TZNAME:MST
DTSTART:20240101T000000
END:STANDARD
END:VTIMEZONE
BEGIN:VEVENT
DTSTART;TZID=America/Phoenix:20250204T100000
DTEND;TZID=America/Phoenix:20250204T110000
DTSTAMP:20260423T003136
CREATED:20250130T211253Z
LAST-MODIFIED:20250130T211253Z
UID:13230-1738663200-1738666800@clearspringhealthcare.com
SUMMARY:Colorado Virtual Event: Using Benefit Information to Maximize Sales
DESCRIPTION:
URL:https://clearspringhealthcare.com/event/colorado-virtual-event-using-benefit-information-to-maximize-sales/
END:VEVENT
END:VCALENDAR