BEGIN:VCALENDAR
VERSION:2.0
PRODID:-//Clear Spring Health Care - ECPv6.15.18//NONSGML v1.0//EN
CALSCALE:GREGORIAN
METHOD:PUBLISH
X-ORIGINAL-URL:https://clearspringhealthcare.com
X-WR-CALDESC:Events for Clear Spring Health Care
REFRESH-INTERVAL;VALUE=DURATION:PT1H
X-Robots-Tag:noindex
X-PUBLISHED-TTL:PT1H
BEGIN:VTIMEZONE
TZID:America/Phoenix
BEGIN:STANDARD
TZOFFSETFROM:-0700
TZOFFSETTO:-0700
TZNAME:MST
DTSTART:20240101T000000
END:STANDARD
END:VTIMEZONE
BEGIN:VTIMEZONE
TZID:America/New_York
BEGIN:DAYLIGHT
TZOFFSETFROM:-0500
TZOFFSETTO:-0400
TZNAME:EDT
DTSTART:20240310T070000
END:DAYLIGHT
BEGIN:STANDARD
TZOFFSETFROM:-0400
TZOFFSETTO:-0500
TZNAME:EST
DTSTART:20241103T060000
END:STANDARD
BEGIN:DAYLIGHT
TZOFFSETFROM:-0500
TZOFFSETTO:-0400
TZNAME:EDT
DTSTART:20250309T070000
END:DAYLIGHT
BEGIN:STANDARD
TZOFFSETFROM:-0400
TZOFFSETTO:-0500
TZNAME:EST
DTSTART:20251102T060000
END:STANDARD
BEGIN:DAYLIGHT
TZOFFSETFROM:-0500
TZOFFSETTO:-0400
TZNAME:EDT
DTSTART:20260308T070000
END:DAYLIGHT
BEGIN:STANDARD
TZOFFSETFROM:-0400
TZOFFSETTO:-0500
TZNAME:EST
DTSTART:20261101T060000
END:STANDARD
END:VTIMEZONE
BEGIN:VEVENT
DTSTART;TZID=America/Phoenix:20250225T100000
DTEND;TZID=America/Phoenix:20250225T110000
DTSTAMP:20260421T210940
CREATED:20250130T211500Z
LAST-MODIFIED:20250130T211500Z
UID:13236-1740477600-1740481200@clearspringhealthcare.com
SUMMARY:Colorado Virtual Event: Leveraging Community Partnership Events for Business Growth
DESCRIPTION:
URL:https://clearspringhealthcare.com/event/colorado-virtual-event-leveraging-community-partnership-events-for-business-growth/
END:VEVENT
BEGIN:VEVENT
DTSTART;TZID=America/New_York:20250225T133000
DTEND;TZID=America/New_York:20250225T143000
DTSTAMP:20260421T210940
CREATED:20250130T212629Z
LAST-MODIFIED:20250130T212629Z
UID:13252-1740490200-1740493800@clearspringhealthcare.com
SUMMARY:Georgia Virtual Event: Provider Look Up Training
DESCRIPTION:
URL:https://clearspringhealthcare.com/event/georgia-virtual-event-provider-look-up-training/
END:VEVENT
BEGIN:VEVENT
DTSTART;TZID=America/New_York:20250225T133000
DTEND;TZID=America/New_York:20250225T143000
DTSTAMP:20260421T210940
CREATED:20250212T174230Z
LAST-MODIFIED:20250212T174230Z
UID:13403-1740490200-1740493800@clearspringhealthcare.com
SUMMARY:Georgia Virtual Event: Provider Look Up Training
DESCRIPTION:
URL:https://clearspringhealthcare.com/event/georgia-virtual-event-provider-look-up-training-2/
END:VEVENT
END:VCALENDAR