BEGIN:VCALENDAR
VERSION:2.0
PRODID:-//Clear Spring Health Care - ECPv6.15.18//NONSGML v1.0//EN
CALSCALE:GREGORIAN
METHOD:PUBLISH
X-ORIGINAL-URL:https://clearspringhealthcare.com
X-WR-CALDESC:Events for Clear Spring Health Care
REFRESH-INTERVAL;VALUE=DURATION:PT1H
X-Robots-Tag:noindex
X-PUBLISHED-TTL:PT1H
BEGIN:VTIMEZONE
TZID:America/Phoenix
BEGIN:STANDARD
TZOFFSETFROM:-0700
TZOFFSETTO:-0700
TZNAME:MST
DTSTART:20240101T000000
END:STANDARD
END:VTIMEZONE
BEGIN:VEVENT
DTSTART;TZID=America/Phoenix:20250312T090000
DTEND;TZID=America/Phoenix:20250312T100000
DTSTAMP:20260421T211102
CREATED:20250226T212819Z
LAST-MODIFIED:20250226T212819Z
UID:13506-1741770000-1741773600@clearspringhealthcare.com
SUMMARY:Colorado Virtual Event: Learn How to Use Groceries\, Utulities\, Dental\, Vision & Hearing Benefits\, and Q&A Time
DESCRIPTION:
URL:https://clearspringhealthcare.com/event/colorado-virtual-event-learn-how-to-use-groceries-utulities-dental-vision-hearing-benefits-and-qa-time/
END:VEVENT
END:VCALENDAR