BEGIN:VCALENDAR
VERSION:2.0
PRODID:-//Clear Spring Health Care - ECPv6.15.18//NONSGML v1.0//EN
CALSCALE:GREGORIAN
METHOD:PUBLISH
X-ORIGINAL-URL:https://clearspringhealthcare.com
X-WR-CALDESC:Events for Clear Spring Health Care
REFRESH-INTERVAL;VALUE=DURATION:PT1H
X-Robots-Tag:noindex
X-PUBLISHED-TTL:PT1H
BEGIN:VTIMEZONE
TZID:America/Phoenix
BEGIN:STANDARD
TZOFFSETFROM:-0700
TZOFFSETTO:-0700
TZNAME:MST
DTSTART:20240101T000000
END:STANDARD
END:VTIMEZONE
BEGIN:VEVENT
DTSTART;TZID=America/Phoenix:20250318T120000
DTEND;TZID=America/Phoenix:20250318T140000
DTSTAMP:20260421T210013
CREATED:20250226T212647Z
LAST-MODIFIED:20250226T212647Z
UID:13502-1742299200-1742306400@clearspringhealthcare.com
SUMMARY:Colorado Lunch and Learn: Panera Bread - Denver
DESCRIPTION:
URL:https://clearspringhealthcare.com/event/colorado-lunch-and-learn-panera-bread-denver/
END:VEVENT
END:VCALENDAR