BEGIN:VCALENDAR
VERSION:2.0
PRODID:-//Clear Spring Health Care - ECPv6.15.18//NONSGML v1.0//EN
CALSCALE:GREGORIAN
METHOD:PUBLISH
X-WR-CALNAME:Clear Spring Health Care
X-ORIGINAL-URL:https://clearspringhealthcare.com
X-WR-CALDESC:Events for Clear Spring Health Care
REFRESH-INTERVAL;VALUE=DURATION:PT1H
X-Robots-Tag:noindex
X-PUBLISHED-TTL:PT1H
BEGIN:VTIMEZONE
TZID:UTC
BEGIN:STANDARD
TZOFFSETFROM:+0000
TZOFFSETTO:+0000
TZNAME:UTC
DTSTART:19690101T000000
END:STANDARD
END:VTIMEZONE
BEGIN:VEVENT
DTSTART;TZID=UTC:20260423T031009
DTEND;TZID=UTC:20260423T031009
DTSTAMP:20260423T031009
CREATED:20250926T202735Z
LAST-MODIFIED:20250926T202736Z
UID:20332-0-0@clearspringhealthcare.com
SUMMARY:Colorado Virtual Event: 2026 Benefits Review
DESCRIPTION:
URL:https://clearspringhealthcare.com/event/colorado-virtual-event-2026-benefits-review/
END:VEVENT
END:VCALENDAR