BEGIN:VCALENDAR
VERSION:2.0
PRODID:-//Clear Spring Health Care - ECPv6.15.18//NONSGML v1.0//EN
CALSCALE:GREGORIAN
METHOD:PUBLISH
X-ORIGINAL-URL:https://clearspringhealthcare.com
X-WR-CALDESC:Events for Clear Spring Health Care
REFRESH-INTERVAL;VALUE=DURATION:PT1H
X-Robots-Tag:noindex
X-PUBLISHED-TTL:PT1H
BEGIN:VTIMEZONE
TZID:America/Denver
BEGIN:DAYLIGHT
TZOFFSETFROM:-0700
TZOFFSETTO:-0600
TZNAME:MDT
DTSTART:20240310T090000
END:DAYLIGHT
BEGIN:STANDARD
TZOFFSETFROM:-0600
TZOFFSETTO:-0700
TZNAME:MST
DTSTART:20241103T080000
END:STANDARD
BEGIN:DAYLIGHT
TZOFFSETFROM:-0700
TZOFFSETTO:-0600
TZNAME:MDT
DTSTART:20250309T090000
END:DAYLIGHT
BEGIN:STANDARD
TZOFFSETFROM:-0600
TZOFFSETTO:-0700
TZNAME:MST
DTSTART:20251102T080000
END:STANDARD
BEGIN:DAYLIGHT
TZOFFSETFROM:-0700
TZOFFSETTO:-0600
TZNAME:MDT
DTSTART:20260308T090000
END:DAYLIGHT
BEGIN:STANDARD
TZOFFSETFROM:-0600
TZOFFSETTO:-0700
TZNAME:MST
DTSTART:20261101T080000
END:STANDARD
END:VTIMEZONE
BEGIN:VTIMEZONE
TZID:America/New_York
BEGIN:DAYLIGHT
TZOFFSETFROM:-0500
TZOFFSETTO:-0400
TZNAME:EDT
DTSTART:20240310T070000
END:DAYLIGHT
BEGIN:STANDARD
TZOFFSETFROM:-0400
TZOFFSETTO:-0500
TZNAME:EST
DTSTART:20241103T060000
END:STANDARD
BEGIN:DAYLIGHT
TZOFFSETFROM:-0500
TZOFFSETTO:-0400
TZNAME:EDT
DTSTART:20250309T070000
END:DAYLIGHT
BEGIN:STANDARD
TZOFFSETFROM:-0400
TZOFFSETTO:-0500
TZNAME:EST
DTSTART:20251102T060000
END:STANDARD
BEGIN:DAYLIGHT
TZOFFSETFROM:-0500
TZOFFSETTO:-0400
TZNAME:EDT
DTSTART:20260308T070000
END:DAYLIGHT
BEGIN:STANDARD
TZOFFSETFROM:-0400
TZOFFSETTO:-0500
TZNAME:EST
DTSTART:20261101T060000
END:STANDARD
END:VTIMEZONE
BEGIN:VTIMEZONE
TZID:America/Chicago
BEGIN:DAYLIGHT
TZOFFSETFROM:-0600
TZOFFSETTO:-0500
TZNAME:CDT
DTSTART:20240310T080000
END:DAYLIGHT
BEGIN:STANDARD
TZOFFSETFROM:-0500
TZOFFSETTO:-0600
TZNAME:CST
DTSTART:20241103T070000
END:STANDARD
BEGIN:DAYLIGHT
TZOFFSETFROM:-0600
TZOFFSETTO:-0500
TZNAME:CDT
DTSTART:20250309T080000
END:DAYLIGHT
BEGIN:STANDARD
TZOFFSETFROM:-0500
TZOFFSETTO:-0600
TZNAME:CST
DTSTART:20251102T070000
END:STANDARD
BEGIN:DAYLIGHT
TZOFFSETFROM:-0600
TZOFFSETTO:-0500
TZNAME:CDT
DTSTART:20260308T080000
END:DAYLIGHT
BEGIN:STANDARD
TZOFFSETFROM:-0500
TZOFFSETTO:-0600
TZNAME:CST
DTSTART:20261101T070000
END:STANDARD
END:VTIMEZONE
BEGIN:VEVENT
DTSTART;TZID=America/Denver:20250602T100000
DTEND;TZID=America/Denver:20250602T110000
DTSTAMP:20260421T211107
CREATED:20250529T130716Z
LAST-MODIFIED:20250529T130840Z
UID:14201-1748858400-1748862000@clearspringhealthcare.com
SUMMARY:Colorado Virtual Event: Clear Spring Health news\, community engagement training\, & lead generation to build your business!
DESCRIPTION:
URL:https://clearspringhealthcare.com/event/colorado-virtual-event-clear-spring-health-news-community-engagement-training-lead-generation-to-build-your-business/
END:VEVENT
BEGIN:VEVENT
DTSTART;TZID=America/Denver:20250605T113000
DTEND;TZID=America/Denver:20250605T133000
DTSTAMP:20260421T211107
CREATED:20250529T131017Z
LAST-MODIFIED:20250529T131017Z
UID:14207-1749123000-1749130200@clearspringhealthcare.com
SUMMARY:Colorado Lunch & Learn:  Meet your Broker Manager at Panera Bread: 1550 Fall River Dr. Loveland\, CO 80538
DESCRIPTION:
URL:https://clearspringhealthcare.com/event/colorado-lunch-learn-meet-your-broker-manager-at-panera-bread-1550-fall-river-dr-loveland-co-80538/
END:VEVENT
BEGIN:VEVENT
DTSTART;TZID=America/Denver:20250611T100000
DTEND;TZID=America/Denver:20250611T110000
DTSTAMP:20260421T211107
CREATED:20250529T130804Z
LAST-MODIFIED:20250529T130804Z
UID:14203-1749636000-1749639600@clearspringhealthcare.com
SUMMARY:Colorado Virtual Event: Silver Sneakers\, Dental\, Vision & Hearing Training\, and Q&A Time
DESCRIPTION:
URL:https://clearspringhealthcare.com/event/colorado-virtual-event-silver-sneakers-dental-vision-hearing-training-and-qa-time/
END:VEVENT
BEGIN:VEVENT
DTSTART;TZID=America/Denver:20250612T113000
DTEND;TZID=America/Denver:20250612T133000
DTSTAMP:20260421T211107
CREATED:20250529T131111Z
LAST-MODIFIED:20250529T131111Z
UID:14209-1749727800-1749735000@clearspringhealthcare.com
SUMMARY:Colorado Lunch & Learn: Meet your Broker Manager at Panera Bread: 100 E. 120th Ave. Northglenn\, CO 80233
DESCRIPTION:
URL:https://clearspringhealthcare.com/event/colorado-lunch-learn-meet-your-broker-manager-at-panera-bread-100-e-120th-ave-northglenn-co-80233/
END:VEVENT
BEGIN:VEVENT
DTSTART;TZID=America/Denver:20250618T100000
DTEND;TZID=America/Denver:20250618T110000
DTSTAMP:20260421T211107
CREATED:20250529T130926Z
LAST-MODIFIED:20250529T130926Z
UID:14205-1750240800-1750244400@clearspringhealthcare.com
SUMMARY:Colorado Virtual Event: Clear Spring Health news\, community engagement training\, & lead generation to build your business!
DESCRIPTION:
URL:https://clearspringhealthcare.com/event/colorado-virtual-event-clear-spring-health-news-community-engagement-training-lead-generation-to-build-your-business-2/
END:VEVENT
BEGIN:VEVENT
DTSTART;TZID=America/New_York:20250618T100000
DTEND;TZID=America/New_York:20250618T110000
DTSTAMP:20260421T211107
CREATED:20250603T195824Z
LAST-MODIFIED:20250603T195824Z
UID:14269-1750240800-1750244400@clearspringhealthcare.com
SUMMARY:Georgia Virtual Event: CSH Basics Training
DESCRIPTION:
URL:https://clearspringhealthcare.com/event/georgia-virtual-event-csh-basics-training/
END:VEVENT
BEGIN:VEVENT
DTSTART;TZID=America/New_York:20250624T100000
DTEND;TZID=America/New_York:20250624T110000
DTSTAMP:20260421T211107
CREATED:20250603T195927Z
LAST-MODIFIED:20250603T195927Z
UID:14271-1750759200-1750762800@clearspringhealthcare.com
SUMMARY:Georgia Virtual Event: CSH Systems Training
DESCRIPTION:
URL:https://clearspringhealthcare.com/event/georgia-virtual-event-csh-systems-training/
END:VEVENT
BEGIN:VEVENT
DTSTART;TZID=America/Denver:20250625T100000
DTEND;TZID=America/Denver:20250625T110000
DTSTAMP:20260421T211107
CREATED:20250529T130634Z
LAST-MODIFIED:20250529T130634Z
UID:14199-1750845600-1750849200@clearspringhealthcare.com
SUMMARY:Colorado Virtual Event: C-SNP\, T65 Training & Marketing\, and Q&A Time
DESCRIPTION:
URL:https://clearspringhealthcare.com/event/colorado-virtual-event-c-snp-t65-training-marketing-and-qa-time/
END:VEVENT
BEGIN:VEVENT
DTSTART;TZID=America/Chicago:20250625T110000
DTEND;TZID=America/Chicago:20250625T120000
DTSTAMP:20260421T211107
CREATED:20250529T131206Z
LAST-MODIFIED:20250529T131206Z
UID:14211-1750849200-1750852800@clearspringhealthcare.com
SUMMARY:Illinois Virtual Training: SEP Engagement and Information
DESCRIPTION:
URL:https://clearspringhealthcare.com/event/illinois-virtual-training-sep-engagement-and-information-2/
END:VEVENT
END:VCALENDAR